BEGIN:VCALENDAR
VERSION:2.0
PRODID:-//State Police Association of Massachusetts Troopers - ECPv6.15.20//NONSGML v1.0//EN
CALSCALE:GREGORIAN
METHOD:PUBLISH
X-WR-CALNAME:State Police Association of Massachusetts Troopers
X-ORIGINAL-URL:https://msptrooper.org
X-WR-CALDESC:Events for State Police Association of Massachusetts Troopers
REFRESH-INTERVAL;VALUE=DURATION:PT1H
X-Robots-Tag:noindex
X-PUBLISHED-TTL:PT1H
BEGIN:VTIMEZONE
TZID:America/New_York
BEGIN:DAYLIGHT
TZOFFSETFROM:-0500
TZOFFSETTO:-0400
TZNAME:EDT
DTSTART:20240310T070000
END:DAYLIGHT
BEGIN:STANDARD
TZOFFSETFROM:-0400
TZOFFSETTO:-0500
TZNAME:EST
DTSTART:20241103T060000
END:STANDARD
BEGIN:DAYLIGHT
TZOFFSETFROM:-0500
TZOFFSETTO:-0400
TZNAME:EDT
DTSTART:20250309T070000
END:DAYLIGHT
BEGIN:STANDARD
TZOFFSETFROM:-0400
TZOFFSETTO:-0500
TZNAME:EST
DTSTART:20251102T060000
END:STANDARD
BEGIN:DAYLIGHT
TZOFFSETFROM:-0500
TZOFFSETTO:-0400
TZNAME:EDT
DTSTART:20260308T070000
END:DAYLIGHT
BEGIN:STANDARD
TZOFFSETFROM:-0400
TZOFFSETTO:-0500
TZNAME:EST
DTSTART:20261101T060000
END:STANDARD
END:VTIMEZONE
BEGIN:VEVENT
DTSTART;VALUE=DATE:20250521
DTEND;VALUE=DATE:20250522
DTSTAMP:20260422T043549
CREATED:20250125T010241Z
LAST-MODIFIED:20250125T010244Z
UID:5640-1747785600-1747871999@msptrooper.org
SUMMARY:2025 D-Troop Open
DESCRIPTION:
URL:https://msptrooper.org/event/2025-d-troop-open/
LOCATION:Crosswinds Golf Club\, 424 Long Pond Rd\, Plymouth\, MA\, 02360\, United States
CATEGORIES:Golf Tournament
ATTACH;FMTTYPE=image/png:https://msptrooper.org/wp-content/uploads/2025/01/2.png
END:VEVENT
END:VCALENDAR