BEGIN:VCALENDAR
VERSION:2.0
PRODID:-//State Police Association of Massachusetts Troopers - ECPv6.15.20//NONSGML v1.0//EN
CALSCALE:GREGORIAN
METHOD:PUBLISH
X-WR-CALNAME:State Police Association of Massachusetts Troopers
X-ORIGINAL-URL:https://msptrooper.org
X-WR-CALDESC:Events for State Police Association of Massachusetts Troopers
REFRESH-INTERVAL;VALUE=DURATION:PT1H
X-Robots-Tag:noindex
X-PUBLISHED-TTL:PT1H
BEGIN:VTIMEZONE
TZID:America/New_York
BEGIN:DAYLIGHT
TZOFFSETFROM:-0500
TZOFFSETTO:-0400
TZNAME:EDT
DTSTART:20250309T070000
END:DAYLIGHT
BEGIN:STANDARD
TZOFFSETFROM:-0400
TZOFFSETTO:-0500
TZNAME:EST
DTSTART:20251102T060000
END:STANDARD
BEGIN:DAYLIGHT
TZOFFSETFROM:-0500
TZOFFSETTO:-0400
TZNAME:EDT
DTSTART:20260308T070000
END:DAYLIGHT
BEGIN:STANDARD
TZOFFSETFROM:-0400
TZOFFSETTO:-0500
TZNAME:EST
DTSTART:20261101T060000
END:STANDARD
BEGIN:DAYLIGHT
TZOFFSETFROM:-0500
TZOFFSETTO:-0400
TZNAME:EDT
DTSTART:20270314T070000
END:DAYLIGHT
BEGIN:STANDARD
TZOFFSETFROM:-0400
TZOFFSETTO:-0500
TZNAME:EST
DTSTART:20271107T060000
END:STANDARD
END:VTIMEZONE
BEGIN:VEVENT
DTSTART;VALUE=DATE:20260727
DTEND;VALUE=DATE:20260728
DTSTAMP:20260421T144353
CREATED:20250808T164751Z
LAST-MODIFIED:20260415T131032Z
UID:6035-1785110400-1785196799@msptrooper.org
SUMMARY:2026 C-Troop Golf Classic
DESCRIPTION:Platinum Sponsor: Foursome to play\, 2 Tee Box Signs\, Tournament Gift – $2\,000\nFoursome: Foursome to play – $700\nHole Sponsor: Sign at Tee Box – $250
URL:https://msptrooper.org/event/2026-c-troop-classic/
LOCATION:Cyprian Keyes Golf Club – 284 East Temple St\, Boylston\, MA\, 284 East Temple St\, Boylston\, MA\, 01505\, United States
CATEGORIES:Golf Tournament
ATTACH;FMTTYPE=image/png:https://msptrooper.org/wp-content/uploads/2025/01/3.png
END:VEVENT
END:VCALENDAR