BEGIN:VCALENDAR
VERSION:2.0
PRODID:-//State Police Association of Massachusetts Troopers - ECPv6.15.20//NONSGML v1.0//EN
CALSCALE:GREGORIAN
METHOD:PUBLISH
X-ORIGINAL-URL:https://msptrooper.org
X-WR-CALDESC:Events for State Police Association of Massachusetts Troopers
REFRESH-INTERVAL;VALUE=DURATION:PT1H
X-Robots-Tag:noindex
X-PUBLISHED-TTL:PT1H
BEGIN:VTIMEZONE
TZID:America/New_York
BEGIN:DAYLIGHT
TZOFFSETFROM:-0500
TZOFFSETTO:-0400
TZNAME:EDT
DTSTART:20240310T070000
END:DAYLIGHT
BEGIN:STANDARD
TZOFFSETFROM:-0400
TZOFFSETTO:-0500
TZNAME:EST
DTSTART:20241103T060000
END:STANDARD
BEGIN:DAYLIGHT
TZOFFSETFROM:-0500
TZOFFSETTO:-0400
TZNAME:EDT
DTSTART:20250309T070000
END:DAYLIGHT
BEGIN:STANDARD
TZOFFSETFROM:-0400
TZOFFSETTO:-0500
TZNAME:EST
DTSTART:20251102T060000
END:STANDARD
BEGIN:DAYLIGHT
TZOFFSETFROM:-0500
TZOFFSETTO:-0400
TZNAME:EDT
DTSTART:20260308T070000
END:DAYLIGHT
BEGIN:STANDARD
TZOFFSETFROM:-0400
TZOFFSETTO:-0500
TZNAME:EST
DTSTART:20261101T060000
END:STANDARD
BEGIN:DAYLIGHT
TZOFFSETFROM:-0500
TZOFFSETTO:-0400
TZNAME:EDT
DTSTART:20270314T070000
END:DAYLIGHT
BEGIN:STANDARD
TZOFFSETFROM:-0400
TZOFFSETTO:-0500
TZNAME:EST
DTSTART:20271107T060000
END:STANDARD
END:VTIMEZONE
BEGIN:VEVENT
DTSTART;VALUE=DATE:20250521
DTEND;VALUE=DATE:20250522
DTSTAMP:20260422T181629
CREATED:20250125T010241Z
LAST-MODIFIED:20250125T010244Z
UID:5640-1747785600-1747871999@msptrooper.org
SUMMARY:2025 D-Troop Open
DESCRIPTION:
URL:https://msptrooper.org/event/2025-d-troop-open/
LOCATION:Crosswinds Golf Club\, 424 Long Pond Rd\, Plymouth\, MA\, 02360\, United States
CATEGORIES:Golf Tournament
ATTACH;FMTTYPE=image/png:https://msptrooper.org/wp-content/uploads/2025/01/2.png
END:VEVENT
BEGIN:VEVENT
DTSTART;VALUE=DATE:20250608
DTEND;VALUE=DATE:20250609
DTSTAMP:20260422T181629
CREATED:20250407T175021Z
LAST-MODIFIED:20250407T175021Z
UID:5777-1749340800-1749427199@msptrooper.org
SUMMARY:Massachusetts State Police Chase
DESCRIPTION: \n\n\n\n Kids’ Fun Run\n\n\n Free to all pre-registered day of the event $5.00.  Must all be done online.  No paper registrations accepted \nPolice Chase participants\n 11:00 a.m. – Diaper Dash 3-years-old  and under\n 11:15 a.m. – 1/2-Mile “Jr.” Fun Run 8-years-old and under\n 11:30 a.m. – 1 Mile “Sr.” Fun Run 9-years-old and above. Starts in front Of the Fleet Building\n \nState Police Chase\n11:45 a.m. race Start 5K\n \nEntertaiinment & Food \nAwards Ceremony  at 1:15 p.m. \nDivisions\nLaw Enforcement Division – Must be full-time Law Enforcement to win. Should have I.D.\n 29 & under\n 30-39\n 40-49\n 50-59\n 60-69\n 70+ \nPolice Team – Top three department finishers by time.\nAwards also given to top finishers – top five overall finishers both male and female in nonlaw Enforcement category.\nEntry Fee\nPolice Chase – $25.00 pre-entry fee. \n$25.00 payable at registration. T-shirts will not be provided to race day registrants.
URL:https://msptrooper.org/event/massachusetts-state-police-chase/
LOCATION:State Police Headquarters\, 470 Worcester Road\, Framingham\, 01702
CATEGORIES:Races
ATTACH;FMTTYPE=image/webp:https://msptrooper.org/wp-content/uploads/2025/04/B9316793885Z.1_20150422165311_000_G1DAJ1JJ5.1-0-scaled.webp
END:VEVENT
BEGIN:VEVENT
DTSTART;VALUE=DATE:20250804
DTEND;VALUE=DATE:20250805
DTSTAMP:20260422T181629
CREATED:20240325T163150Z
LAST-MODIFIED:20250319T192738Z
UID:4984-1754265600-1754351999@msptrooper.org
SUMMARY:2025 C Troop Golf Classic
DESCRIPTION:2025 C-Troop Classic Sponsorship Opportunities \nPlatinum Sponsor: Foursome to play\, 2 Tee Box Signs\, Tournament Gift $2\,000.\nFoursome: $800 per team\nHole Sponsor: Sign at Tee Box $250
URL:https://msptrooper.org/event/25-c-troop-golf-classic/
LOCATION:Wedgewood Pines Country Club\, 215 Harvard Rd\, Stow\, 01775\, United States
CATEGORIES:Golf Tournament
ATTACH;FMTTYPE=image/jpeg:https://msptrooper.org/wp-content/uploads/2023/01/GettyImages-1195470295-2.jpg
END:VEVENT
BEGIN:VEVENT
DTSTART;VALUE=DATE:20250915
DTEND;VALUE=DATE:20250916
DTSTAMP:20260422T181629
CREATED:20250620T170254Z
LAST-MODIFIED:20250623T143104Z
UID:5925-1757894400-1757980799@msptrooper.org
SUMMARY:2025 B Troop Fall Golf Classic
DESCRIPTION:Sponsorship and Playing Opportunities: \n\nPlatinum Sponsor ($2000) – Includes 1 Foursome in Tournament\, Sign & Flag\nFlag Sponsor ($500) – Includes Flag at Hole\nHole Sponsor ($250) – Includes Tee Sign\n$600 Team/$150 Single – Entry\n\nEntry Fee Includes: \n\n18 holes & 2 Carts/Team\nGreen Fees\nCheck-In Gifts\nLight breakfast\, Box lunch\, and Dinner & Banquet\n\nDay Includes: \n\nBob Pion BUICK GMC Hole-in-One Contest\nSpringfield Mercedes-Benz Hole-in-One Contest\nRaffle Prizes
URL:https://msptrooper.org/event/2025-fall-golf-classic/
LOCATION:Ludlow Country Club\, 1 Tony Lema Dr.\,\, Ludlow\, MA\, 01056\, United States
CATEGORIES:Golf Tournament
ATTACH;FMTTYPE=image/jpeg:https://msptrooper.org/wp-content/uploads/2023/01/GettyImages-1195470295-2.jpg
END:VEVENT
BEGIN:VEVENT
DTSTART;VALUE=DATE:20250929
DTEND;VALUE=DATE:20250930
DTSTAMP:20260422T181629
CREATED:20250808T142613Z
LAST-MODIFIED:20250808T142613Z
UID:6019-1759104000-1759190399@msptrooper.org
SUMMARY:2025 H-Troop Open
DESCRIPTION:Location: Franklin Park Golf Course – 1 Circuit Dr\, Dorchester\, MA 02121\nDate: Monday\, September 29\, 2025\nTime: 7am registration and 8am shotgun start \nSponsorship & Playing Opportunities: \n\nEvent Sponsor ($2\,500) – Foursome\nGold Sponsor ($1\,000) – Foursome\nSilver Sponsor ($500) – Foursome & Sponsor name/logo on a sign sponsored hole flag\nHole Sponsor ($200)\nFoursome ($700)\nSingle Golfer ($175)
URL:https://msptrooper.org/event/2025-h-troop-open/
LOCATION:Franklin Park Golf Course\, 1 Circuit Dr\, Dorchester\, MA\, 02121
CATEGORIES:Golf Tournament
ATTACH;FMTTYPE=image/png:https://msptrooper.org/wp-content/uploads/2025/01/3.png
END:VEVENT
BEGIN:VEVENT
DTSTART;VALUE=DATE:20251220
DTEND;VALUE=DATE:20251221
DTSTAMP:20260422T181629
CREATED:20251027T190420Z
LAST-MODIFIED:20251027T190420Z
UID:6129-1766188800-1766275199@msptrooper.org
SUMMARY:SPAM 3x3 Basketball Tournament
DESCRIPTION: \n\nSaturday\, December 20th \nNortheastern University \n\n\n\n\n\n\n\n\n\n\nThe Details: \n\n4 players per team\n20 team max\n3 Point competition\nRaffle prizes\, Winners’ prizes\, Dinner after\nAll proceeds benefit the SPAM Benevolent Fund\n\n\n\nHost Committee: \n\nNick Allen (H-4)\nChris Howell (H-4)\nTerrance Staley (H-8)\nCarlos Borrero (H-7)\n\n\n\n\n\n\n\n\n\n 
URL:https://msptrooper.org/event/spam-3x3-basketball-tournament/
LOCATION:Northeastern University\, 716 Columbus Ave\, Boston\, MA\, 02115\, United States
ATTACH;FMTTYPE=image/png:https://msptrooper.org/wp-content/uploads/2025/10/3x3-social-1.png
END:VEVENT
BEGIN:VEVENT
DTSTART;VALUE=DATE:20260608
DTEND;VALUE=DATE:20260609
DTSTAMP:20260422T181629
CREATED:20240304T185941Z
LAST-MODIFIED:20260422T214809Z
UID:4922-1780876800-1780963199@msptrooper.org
SUMMARY:2026 SPAM Benevolent Fund Open
DESCRIPTION:
URL:https://msptrooper.org/event/2026-spam-benevolent-fund-open/
LOCATION:Granite Links\, 100 Quarry Hills Drive\, Quincy\, MA\, 02169\, United States
CATEGORIES:Golf Tournament
ATTACH;FMTTYPE=image/jpeg:https://msptrooper.org/wp-content/uploads/2023/01/GettyImages-1195470295-2.jpg
END:VEVENT
BEGIN:VEVENT
DTSTART;VALUE=DATE:20260727
DTEND;VALUE=DATE:20260728
DTSTAMP:20260422T181629
CREATED:20250808T164751Z
LAST-MODIFIED:20260415T131032Z
UID:6035-1785110400-1785196799@msptrooper.org
SUMMARY:2026 C-Troop Golf Classic
DESCRIPTION:Platinum Sponsor: Foursome to play\, 2 Tee Box Signs\, Tournament Gift – $2\,000\nFoursome: Foursome to play – $700\nHole Sponsor: Sign at Tee Box – $250
URL:https://msptrooper.org/event/2026-c-troop-classic/
LOCATION:Cyprian Keyes Golf Club – 284 East Temple St\, Boylston\, MA\, 284 East Temple St\, Boylston\, MA\, 01505\, United States
CATEGORIES:Golf Tournament
ATTACH;FMTTYPE=image/png:https://msptrooper.org/wp-content/uploads/2025/01/3.png
END:VEVENT
END:VCALENDAR