BEGIN:VCALENDAR
VERSION:2.0
PRODID:-//State Police Association of Massachusetts Troopers - ECPv6.15.20//NONSGML v1.0//EN
CALSCALE:GREGORIAN
METHOD:PUBLISH
X-WR-CALNAME:State Police Association of Massachusetts Troopers
X-ORIGINAL-URL:https://msptrooper.org
X-WR-CALDESC:Events for State Police Association of Massachusetts Troopers
REFRESH-INTERVAL;VALUE=DURATION:PT1H
X-Robots-Tag:noindex
X-PUBLISHED-TTL:PT1H
BEGIN:VTIMEZONE
TZID:America/New_York
BEGIN:DAYLIGHT
TZOFFSETFROM:-0500
TZOFFSETTO:-0400
TZNAME:EDT
DTSTART:20220313T070000
END:DAYLIGHT
BEGIN:STANDARD
TZOFFSETFROM:-0400
TZOFFSETTO:-0500
TZNAME:EST
DTSTART:20221106T060000
END:STANDARD
BEGIN:DAYLIGHT
TZOFFSETFROM:-0500
TZOFFSETTO:-0400
TZNAME:EDT
DTSTART:20230312T070000
END:DAYLIGHT
BEGIN:STANDARD
TZOFFSETFROM:-0400
TZOFFSETTO:-0500
TZNAME:EST
DTSTART:20231105T060000
END:STANDARD
BEGIN:DAYLIGHT
TZOFFSETFROM:-0500
TZOFFSETTO:-0400
TZNAME:EDT
DTSTART:20240310T070000
END:DAYLIGHT
BEGIN:STANDARD
TZOFFSETFROM:-0400
TZOFFSETTO:-0500
TZNAME:EST
DTSTART:20241103T060000
END:STANDARD
BEGIN:DAYLIGHT
TZOFFSETFROM:-0500
TZOFFSETTO:-0400
TZNAME:EDT
DTSTART:20250309T070000
END:DAYLIGHT
BEGIN:STANDARD
TZOFFSETFROM:-0400
TZOFFSETTO:-0500
TZNAME:EST
DTSTART:20251102T060000
END:STANDARD
END:VTIMEZONE
BEGIN:VTIMEZONE
TZID:UTC
BEGIN:STANDARD
TZOFFSETFROM:+0000
TZOFFSETTO:+0000
TZNAME:UTC
DTSTART:20160101T000000
END:STANDARD
END:VTIMEZONE
BEGIN:VEVENT
DTSTART;VALUE=DATE:20240522
DTEND;VALUE=DATE:20240523
DTSTAMP:20260421T200309
CREATED:20240304T185012Z
LAST-MODIFIED:20240304T185200Z
UID:4912-1716336000-1716422399@msptrooper.org
SUMMARY:2024 D Troop Open
DESCRIPTION:Tickets include Range balls\, Golf cart\, 18 holes of Championship golf\, contest and prize holes\, food from their legendary grill at the turn and a post tournament buffet at the clubhouse. There will be numerous raffle items and silent auctions. It is encouraged that each barracks\, department\, unit or company sponsor a hole. If you are playing with a member of the MSP or a Veteran owned group call for itemized prices. Options for sponsorships are listed below. All money raised will go directly to the State Police Benevolent Fund.
URL:https://msptrooper.org/event/2024-d-troop/
LOCATION:Crosswinds Golf Club\, 424 Long Pond Rd\, Plymouth\, MA\, 02360\, United States
CATEGORIES:Golf Tournament
ATTACH;FMTTYPE=image/jpeg:https://msptrooper.org/wp-content/uploads/2023/01/GettyImages-1195470295-2.jpg
END:VEVENT
BEGIN:VEVENT
DTSTART;VALUE=DATE:20230922
DTEND;VALUE=DATE:20230923
DTSTAMP:20260421T200309
CREATED:20230831T131056Z
LAST-MODIFIED:20230831T131644Z
UID:3953-1695340800-1695427199@msptrooper.org
SUMMARY:2023 Benevolent Fund B Troop Fall Golf Classic
DESCRIPTION:
URL:https://msptrooper.org/event/2023-benevolent-fund-b-troop-fall-golf-classic/
LOCATION:Westover Golf Course\, 181 South Street\, Granby\, MA\, 01033\, United States
CATEGORIES:Golf Tournament
ATTACH;FMTTYPE=image/png:https://msptrooper.org/wp-content/uploads/2023/08/golfff.png
END:VEVENT
BEGIN:VEVENT
DTSTART;VALUE=DATE:20230612
DTEND;VALUE=DATE:20230613
DTSTAMP:20260421T200309
CREATED:20230118T180841Z
LAST-MODIFIED:20230125T175615Z
UID:3280-1686528000-1686614399@msptrooper.org
SUMMARY:EVO Backs the Red\, White\, and Blue Golf Tournament
DESCRIPTION:The event is always a great time\, and all proceeds go State Police Association Benevolent Fund\, The National Troopers Coalition Charitable Foundation\, Tunnel to Towers\, The Boston Local 718 Firefighter & Family Cancer Foundation. \n  \n\nEVO Backs the Red\, White\, and Blue Golf Tournament
URL:https://msptrooper.org/event/evo-backs-the-red-white-and-blue-golf-tournament/
LOCATION:Granite Links\, 100 Quarry Hills Drive\, Quincy\, MA\, 02169\, United States
CATEGORIES:Golf Tournament
ATTACH;FMTTYPE=image/png:https://msptrooper.org/wp-content/uploads/2023/01/Resized.png
END:VEVENT
BEGIN:VEVENT
DTSTART;VALUE=DATE:20240522
DTEND;VALUE=DATE:20240523
DTSTAMP:20260421T200309
CREATED:20240118T183506Z
LAST-MODIFIED:20240304T184916Z
UID:3285-1716336000-1716422399@msptrooper.org
SUMMARY:D Troop Golf Classic
DESCRIPTION:The event is always a great time and all proceeds go directly to the Benevolent Fund.
URL:https://msptrooper.org/event/d-troop-golf-classic/
LOCATION:Crosswinds Golf Club\, 424 Long Pond Rd\, Plymouth\, MA\, 02360\, United States
CATEGORIES:Golf Tournament
ATTACH;FMTTYPE=image/jpeg:https://msptrooper.org/wp-content/uploads/2023/01/GettyImages-1195470295-2.jpg
END:VEVENT
BEGIN:VEVENT
DTSTART;TZID=UTC:20221119T180000
DTEND;TZID=UTC:20221119T220000
DTSTAMP:20260421T200309
CREATED:20220916T212220Z
LAST-MODIFIED:20221101T173139Z
UID:3038-1668880800-1668895200@msptrooper.org
SUMMARY:Benevolent Fund Gala 2022
DESCRIPTION:The State Police Association of Massachusetts Benevolent Fund is proud to announce the 2022 Fall Gala. \n\n\n\n\n\n\nWe invite all our members to please join us at what is going to be an amazing event. Due to the limited number of tickets available\, we suggest that you buy your tickets early. This November our membership\, friends\, and supporters will visit historic Fenway Park for first class refreshments\, and entertainment for this worthy cause. \nSaturday\, November 19th\nFenway Park\n 20 Jersey Street – Club Entrance\nBoston\, Massachusetts\n6:00 p.m. to 10:00 p.m.\n$75 General Admission\nAs we gather to honor\, remember\, and celebrate together; we will be raising funds crucial to advancing the mission of our Benevolent Fund: “To assist our members in certain times of need.” \nIn recent years\, the Benevolent Fund has expanded its support to include all first responders\, their families\, and members of our community. The expansion of the Benevolent Fund has benefitted the lives of so many. It is essential we continue to provide funds to those in need. \nHighlights of this year’s event will include: \n\nHonoring Fallen Members and their families\nAppreciation of supporters\nA silent auction\n\nEntertainment by: Midnight Goggles
URL:https://msptrooper.org/event/benevolent-fund-gala-2022/
LOCATION:Fenway Park\, 20 Jersey Street - Club Entrance\, Boston\, MA\, 02215\, United States
END:VEVENT
BEGIN:VEVENT
DTSTART;VALUE=DATE:20220919
DTEND;VALUE=DATE:20220920
DTSTAMP:20260421T200309
CREATED:20170714T005337Z
LAST-MODIFIED:20220716T073453Z
UID:739-1663545600-1663631999@msptrooper.org
SUMMARY:B Troop Fall Golf Classic
DESCRIPTION:The Association is pleased to announce the B Troop Fall Golf Classic will take place again this year. Space is limited and it fills up fast. Spots are filled on a first come first serve basis. The registration form along with the flyer are attached to this SOG. The event is always a great time and all proceeds go directly to the Benevolent Fund. \nLocation: Tekoa Country Club 459 Russell Road Westfield\, MA\nDate: Monday\, September 19\, 2022\nTime: 0830 check in and 0930 shotgun start\nCost: $600 per foursome \nBreakfast\, lunch and a dinner banquet are included with golf.\nA special thanks to Ben Joress who has spearheaded organizing the event again this year. \n\nClick here to learn more
URL:https://msptrooper.org/event/b-troop-fall-golf-classic/
LOCATION:Tekoa Country Club\, 459 Russell Road\, Westfield\, MA\, 01085\, United States
CATEGORIES:Golf Tournament
ATTACH;FMTTYPE=image/jpeg:https://msptrooper.org/wp-content/uploads/2017/05/golf4.jpg
END:VEVENT
BEGIN:VEVENT
DTSTART;TZID=UTC:20200513T200000
DTEND;TZID=UTC:20200513T230000
DTSTAMP:20260421T200309
CREATED:20200514T032824Z
LAST-MODIFIED:20200514T032847Z
UID:1659-1589400000-1589410800@msptrooper.org
SUMMARY:Virtual - 32nd Annual Candlelight Vigil
DESCRIPTION:Join us for the tonight’s candlelight vigil at 8pm Eastern.  https://nationaltroopers.org/
URL:https://msptrooper.org/event/virtual-32nd-annual-candlelight-vigil/
LOCATION:MA
END:VEVENT
BEGIN:VEVENT
DTSTART;TZID=UTC:20171104T183000
DTEND;TZID=UTC:20171104T230000
DTSTAMP:20260421T200309
CREATED:20170502T204438Z
LAST-MODIFIED:20170708T215822Z
UID:502-1509820200-1509836400@msptrooper.org
SUMMARY:Blue & White Gala & Auction
DESCRIPTION:To learn more about the event and how to become a part of it\, click here.
URL:https://msptrooper.org/event/gala/
LOCATION:MA
ATTACH;FMTTYPE=image/jpeg:https://msptrooper.org/wp-content/uploads/2017/05/gala.jpg
END:VEVENT
BEGIN:VEVENT
DTSTART;TZID=UTC:20170711T080000
DTEND;TZID=UTC:20170711T170000
DTSTAMP:20260421T200309
CREATED:20170502T204141Z
LAST-MODIFIED:20170502T204141Z
UID:499-1499760000-1499792400@msptrooper.org
SUMMARY:Twin Hills Golf Open
DESCRIPTION:
URL:https://msptrooper.org/event/twin-hills-golf-open/
LOCATION:MA
ATTACH;FMTTYPE=image/jpeg:https://msptrooper.org/wp-content/uploads/2017/05/golf4.jpg
END:VEVENT
BEGIN:VEVENT
DTSTART;TZID=UTC:20170705T080000
DTEND;TZID=UTC:20170705T170000
DTSTAMP:20260421T200309
CREATED:20170502T195626Z
LAST-MODIFIED:20170502T204641Z
UID:491-1499241600-1499274000@msptrooper.org
SUMMARY:State Police Chase - 5k Run
DESCRIPTION:
URL:https://msptrooper.org/event/state-police-chase-5k/
LOCATION:MA
ATTACH;FMTTYPE=image/jpeg:https://msptrooper.org/wp-content/uploads/2017/05/5k.jpg
END:VEVENT
BEGIN:VEVENT
DTSTART;TZID=UTC:20170629T080000
DTEND;TZID=UTC:20170629T170000
DTSTAMP:20260421T200309
CREATED:20170502T203101Z
LAST-MODIFIED:20170502T203351Z
UID:497-1498723200-1498755600@msptrooper.org
SUMMARY:MA Troopers vs. RI Troopers Hockey Tournament
DESCRIPTION:
URL:https://msptrooper.org/event/ma-troopers-vs-ri-troopers-hockey-tournament/
LOCATION:MA
ATTACH;FMTTYPE=image/jpeg:https://msptrooper.org/wp-content/uploads/2017/05/Untitled-1-1.jpg
END:VEVENT
END:VCALENDAR